BEGIN:VCALENDAR
VERSION:2.0
PRODID:-//Gianni Oliva - ECPv4.6.23//NONSGML v1.0//EN
CALSCALE:GREGORIAN
METHOD:PUBLISH
X-WR-CALNAME:Gianni Oliva
X-ORIGINAL-URL:http://giannioliva.it
X-WR-CALDESC:Events for Gianni Oliva
BEGIN:VEVENT
DTSTART;TZID=Europe/Rome:20240515T173000
DTEND;TZID=Europe/Rome:20240515T190000
DTSTAMP:20260423T230523
CREATED:20240507T105919Z
LAST-MODIFIED:20240507T105919Z
UID:6247-1715794200-1715799600@giannioliva.it
SUMMARY:RIVOLI:  c/o Biblioteca Civica - Presentazione "45 milioni di antifascisti"
DESCRIPTION:h. 17.30    RIVOLI  c/o Biblioteca Civica – Presentazione “45 milioni di antifascisti”\n
URL:http://giannioliva.it/event/rivoli-c-o-biblioteca-civica-presentazione-45-milioni-di-antifascisti/
CATEGORIES:Presentazioni
END:VEVENT
END:VCALENDAR