BEGIN:VCALENDAR
VERSION:2.0
PRODID:-//Gianni Oliva - ECPv4.6.23//NONSGML v1.0//EN
CALSCALE:GREGORIAN
METHOD:PUBLISH
X-WR-CALNAME:Gianni Oliva
X-ORIGINAL-URL:http://giannioliva.it
X-WR-CALDESC:Events for Gianni Oliva
BEGIN:VEVENT
DTSTART;TZID=Europe/Rome:20230316T163000
DTEND;TZID=Europe/Rome:20230316T190000
DTSTAMP:20260426T031139
CREATED:20230316T114502Z
LAST-MODIFIED:20230316T115406Z
UID:5560-1678984200-1678993200@giannioliva.it
SUMMARY:TORINO - Presentazione “Il Purgatorio dei vinti”
DESCRIPTION:16 marzo\n\n\nh. 16.30  TORINO – c/o Archivio di Stato – Presentazione “Il Purgatorio dei vinti”\n\n\n
URL:http://giannioliva.it/event/torino-c-o-archivio-di-stato/
CATEGORIES:Presentazioni
END:VEVENT
END:VCALENDAR