BEGIN:VCALENDAR
VERSION:2.0
PRODID:-//Gianni Oliva - ECPv4.6.23//NONSGML v1.0//EN
CALSCALE:GREGORIAN
METHOD:PUBLISH
X-WR-CALNAME:Gianni Oliva
X-ORIGINAL-URL:http://giannioliva.it
X-WR-CALDESC:Events for Gianni Oliva
BEGIN:VEVENT
DTSTART;TZID=Europe/Rome:20240411T180000
DTEND;TZID=Europe/Rome:20240411T200000
DTSTAMP:20260423T134330
CREATED:20240402T122751Z
LAST-MODIFIED:20240402T122751Z
UID:6176-1712858400-1712865600@giannioliva.it
SUMMARY:TORINO - CIRCOLO DEI LETTORI: Presentazione "45 milioni di antifascisti"
DESCRIPTION:\n\nh. 18.00    TORINO – CIRCOLO DEI LETTORI (con Andrea Malaguti\, direttore “La Stampa”) – Presentazione “45 milioni di antifascisti”\n\n\n
URL:http://giannioliva.it/event/torino-circolo-dei-lettori-presentazione-45-milioni-di-antifascisti/
CATEGORIES:Presentazioni
END:VEVENT
END:VCALENDAR