BEGIN:VCALENDAR
VERSION:2.0
PRODID:-//Gianni Oliva - ECPv4.6.23//NONSGML v1.0//EN
CALSCALE:GREGORIAN
METHOD:PUBLISH
X-WR-CALNAME:Gianni Oliva
X-ORIGINAL-URL:http://giannioliva.it
X-WR-CALDESC:Events for Gianni Oliva
BEGIN:VEVENT
DTSTART;TZID=Europe/Rome:20221021T180000
DTEND;TZID=Europe/Rome:20221021T200000
DTSTAMP:20260424T052150
CREATED:20221017T084553Z
LAST-MODIFIED:20221017T084553Z
UID:5153-1666375200-1666382400@giannioliva.it
SUMMARY:TORINO –  I CATTOLICI DAVANTI ALLA MARCIA SU ROMA
DESCRIPTION:21 ottobre\n\n\nh. 18.00 – TORINO – Polo del Novecento – I CATTOLICI DAVANTI ALLA MARCIA SU ROMA\n\n\n
URL:http://giannioliva.it/event/torino-i-cattolici-davanti-alla-marcia-su-roma/
CATEGORIES:Conferenza
END:VEVENT
END:VCALENDAR