BEGIN:VCALENDAR
VERSION:2.0
PRODID:-//Gianni Oliva - ECPv4.6.23//NONSGML v1.0//EN
CALSCALE:GREGORIAN
METHOD:PUBLISH
X-WR-CALNAME:Gianni Oliva
X-ORIGINAL-URL:http://giannioliva.it
X-WR-CALDESC:Events for Gianni Oliva
BEGIN:VEVENT
DTSTART;TZID=Europe/Rome:20240508T210000
DTEND;TZID=Europe/Rome:20240508T230000
DTSTAMP:20260423T214117
CREATED:20240506T120328Z
LAST-MODIFIED:20240506T120738Z
UID:6238-1715202000-1715209200@giannioliva.it
SUMMARY:TORINO - SALONE OFF: Presentazione "45 milioni di antifascisti"
DESCRIPTION:h. 21.00   TORINO – SALONE OFF c/o Biblioteca Ginzburg – Via Lombroso 16 – Presentazione “45 milioni di antifascisti”\n
URL:http://giannioliva.it/event/torino-salone-off-presentazione-45-milioni-di-antifascisti/
CATEGORIES:Presentazioni
END:VEVENT
END:VCALENDAR