BEGIN:VCALENDAR
VERSION:2.0
PRODID:-//Gianni Oliva - ECPv4.6.23//NONSGML v1.0//EN
CALSCALE:GREGORIAN
METHOD:PUBLISH
X-WR-CALNAME:Gianni Oliva
X-ORIGINAL-URL:http://giannioliva.it
X-WR-CALDESC:Events for Gianni Oliva
BEGIN:VEVENT
DTSTART;TZID=Europe/Rome:20250223T160000
DTEND;TZID=Europe/Rome:20250223T180000
DTSTAMP:20260424T201734
CREATED:20250130T121746Z
LAST-MODIFIED:20250130T121746Z
UID:6757-1740326400-1740333600@giannioliva.it
SUMMARY:TORINO – Tangram Teatro: Presentazione “Il pendio dei noci”
DESCRIPTION:23 febbraio\n\n\nh. 16.00 TORINO – Tangram Teatro – Presentazione “Il pendio dei noci”\n\n\n
URL:http://giannioliva.it/event/torino-tangram-teatro-presentazione-il-pendio-dei-noci/
CATEGORIES:Presentazioni
END:VEVENT
END:VCALENDAR