BEGIN:VCALENDAR
VERSION:2.0
PRODID:-//Gianni Oliva - ECPv4.6.23//NONSGML v1.0//EN
CALSCALE:GREGORIAN
METHOD:PUBLISH
X-WR-CALNAME:Gianni Oliva
X-ORIGINAL-URL:http://giannioliva.it
X-WR-CALDESC:Events for Gianni Oliva
BEGIN:VEVENT
DTSTART;TZID=Europe/Rome:20240527T193000
DTEND;TZID=Europe/Rome:20240527T213000
DTSTAMP:20260424T052621
CREATED:20240510T115516Z
LAST-MODIFIED:20240510T115538Z
UID:6261-1716838200-1716845400@giannioliva.it
SUMMARY:TORINO - Unione Industriale - Presentazione "45 milioni di antifascisti"
DESCRIPTION:h. 19.30   TORINO – Unione Industriale – Presentazione “45 milioni di antifascisti”\n
URL:http://giannioliva.it/event/torino-unione-industriale-presentazione-45-milioni-di-antifascisti/
CATEGORIES:Presentazioni
END:VEVENT
END:VCALENDAR