BEGIN:VCALENDAR
VERSION:2.0
PRODID:-//Gianni Oliva - ECPv4.6.23//NONSGML v1.0//EN
CALSCALE:GREGORIAN
METHOD:PUBLISH
X-WR-CALNAME:Gianni Oliva
X-ORIGINAL-URL:http://giannioliva.it
X-WR-CALDESC:Events for Gianni Oliva
BEGIN:VEVENT
DTSTART;TZID=Europe/Rome:20220901T180000
DTEND;TZID=Europe/Rome:20220901T200000
DTSTAMP:20260424T052224
CREATED:20220831T090531Z
LAST-MODIFIED:20220831T095356Z
UID:5012-1662055200-1662062400@giannioliva.it
SUMMARY:UDINE - Dialoghi in Biblioteca “LA BELLA MORTE” con Paolo Gaspari
DESCRIPTION: \n\n
URL:http://giannioliva.it/event/udine-presentazione-la-bella-morte-con-paolo-gaspari/
CATEGORIES:Presentazioni
END:VEVENT
END:VCALENDAR