BEGIN:VCALENDAR
VERSION:2.0
PRODID:-//Gianni Oliva - ECPv4.6.23//NONSGML v1.0//EN
CALSCALE:GREGORIAN
METHOD:PUBLISH
X-WR-CALNAME:Gianni Oliva
X-ORIGINAL-URL:http://giannioliva.it
X-WR-CALDESC:Events for Gianni Oliva
BEGIN:VEVENT
DTSTART;TZID=Europe/Rome:20250219T153000
DTEND;TZID=Europe/Rome:20250219T173000
DTSTAMP:20260424T201702
CREATED:20250130T121040Z
LAST-MODIFIED:20250130T121040Z
UID:6745-1739979000-1739986200@giannioliva.it
SUMMARY:VENARIA (TO): Presentazione “Il pendio dei noci”
DESCRIPTION:19 febbraio\n\n\nh. 15.30 VENARIA (TO) Teatro Concordia – Presentazione “Il pendio dei noci”\n\n\n
URL:http://giannioliva.it/event/venaria-to-presentazione-il-pendio-dei-noci/
CATEGORIES:Presentazioni
END:VEVENT
END:VCALENDAR