BEGIN:VCALENDAR
VERSION:2.0
PRODID:-//Gianni Oliva - ECPv4.6.23//NONSGML v1.0//EN
CALSCALE:GREGORIAN
METHOD:PUBLISH
X-WR-CALNAME:Gianni Oliva
X-ORIGINAL-URL:http://giannioliva.it
X-WR-CALDESC:Events for Gianni Oliva
BEGIN:VEVENT
DTSTART;TZID=Europe/Rome:20241106T170000
DTEND;TZID=Europe/Rome:20241106T183000
DTSTAMP:20260424T134909
CREATED:20241026T105141Z
LAST-MODIFIED:20241026T105204Z
UID:6488-1730912400-1730917800@giannioliva.it
SUMMARY:VENARIA (TO) – Presentazione romanzo “Il pendio dei noci”
DESCRIPTION:6 novembre \n\n\nh. 17.00 VENARIA (TO) c/o UniTre Via Zanellato 16 – Presentazione romanzo “Il pendio dei noci”\n\n\n
URL:http://giannioliva.it/event/venaria-to-presentazione-romanzo-il-pendio-dei-noci/
CATEGORIES:Presentazioni
END:VEVENT
END:VCALENDAR